BEGIN:VCALENDAR
VERSION:2.0
PRODID:-//Memòria Gent Gran - ECPv6.8.1//NONSGML v1.0//EN
CALSCALE:GREGORIAN
METHOD:PUBLISH
X-ORIGINAL-URL:https://memoriagentgran.cat
X-WR-CALDESC:Esdeveniments per Memòria Gent Gran
REFRESH-INTERVAL;VALUE=DURATION:PT1H
X-Robots-Tag:noindex
X-PUBLISHED-TTL:PT1H
BEGIN:VTIMEZONE
TZID:Europe/Madrid
BEGIN:DAYLIGHT
TZOFFSETFROM:+0100
TZOFFSETTO:+0200
TZNAME:CEST
DTSTART:20230326T010000
END:DAYLIGHT
BEGIN:STANDARD
TZOFFSETFROM:+0200
TZOFFSETTO:+0100
TZNAME:CET
DTSTART:20231029T010000
END:STANDARD
BEGIN:DAYLIGHT
TZOFFSETFROM:+0100
TZOFFSETTO:+0200
TZNAME:CEST
DTSTART:20240331T010000
END:DAYLIGHT
BEGIN:STANDARD
TZOFFSETFROM:+0200
TZOFFSETTO:+0100
TZNAME:CET
DTSTART:20241027T010000
END:STANDARD
END:VTIMEZONE
BEGIN:VEVENT
DTSTART;TZID=Europe/Madrid:20230311T100000
DTEND;TZID=Europe/Madrid:20230311T120000
DTSTAMP:20260423T131800
CREATED:20230223T140559Z
LAST-MODIFIED:20230223T140608Z
UID:4440-1678528800-1678536000@memoriagentgran.cat
SUMMARY:Ruta per la indústria tèxtil mataronina
DESCRIPTION:Itinerari A \nsortida a les 10 h des de la plaça Pepa Maca \ninscripcions gratuïtes a l’Oficina de Turisme de Mataró \nRiera\, 123 937582698 \nturisme@ajmataro.cat
URL:https://memoriagentgran.cat/agenda/ruta-per-la-industria-textil-mataronina-3/
LOCATION:Barcelona
ORGANIZER;CN="Comissi%C3%B3 de mem%C3%B2ria hist%C3%B2rica de la gent gran":MAILTO:ciutadania@ajmataro.cat
END:VEVENT
BEGIN:VEVENT
DTSTART;TZID=Europe/Madrid:20230318T100000
DTEND;TZID=Europe/Madrid:20230318T120000
DTSTAMP:20260423T131800
CREATED:20230223T140840Z
LAST-MODIFIED:20230223T140840Z
UID:4442-1679133600-1679140800@memoriagentgran.cat
SUMMARY:Ruta per la indústria tèxtil mataronina
DESCRIPTION:Itinerari B \nsortida a les 10h des de la plaça Dolors Monserdà (carrer Biada) \ninscripcions gratuïtes a l’Oficina de Turisme \nRiera\, 123 93 758 26 98 \nturisme@ajmataro.cat
URL:https://memoriagentgran.cat/agenda/ruta-per-la-industria-textil-mataronina-4/
LOCATION:Barcelona
ORGANIZER;CN="Comissi%C3%B3 de mem%C3%B2ria hist%C3%B2rica de la gent gran":MAILTO:ciutadania@ajmataro.cat
END:VEVENT
BEGIN:VEVENT
DTSTART;TZID=Europe/Madrid:20230415T100000
DTEND;TZID=Europe/Madrid:20230415T120000
DTSTAMP:20260423T131800
CREATED:20230323T152102Z
LAST-MODIFIED:20230323T152102Z
UID:4533-1681552800-1681560000@memoriagentgran.cat
SUMMARY:Ruta guiada pels llocs emblemàtics de la guerra civil
DESCRIPTION:Lloc de trobada Nau Gaudí\, c/ de la Cooperativa\, 47 \nguiat per l’historiador Víctor Ligos \nInscripcions gratuïtes a l’Oficina de Turisme
URL:https://memoriagentgran.cat/agenda/ruta-guiada-pels-llocs-emblematics-de-la-guerra-civil/
LOCATION:Barcelona
ATTACH;FMTTYPE=image/png:https://memoriagentgran.cat/wp-content/uploads/2023/03/Rutea-guerra-civil-e1751877005931.png
ORGANIZER;CN="Comissi%C3%B3 de mem%C3%B2ria hist%C3%B2rica de la gent gran":MAILTO:ciutadania@ajmataro.cat
END:VEVENT
BEGIN:VEVENT
DTSTART;TZID=Europe/Madrid:20230513T093000
DTEND;TZID=Europe/Madrid:20230513T120000
DTSTAMP:20260423T131800
CREATED:20230421T104828Z
LAST-MODIFIED:20230421T104828Z
UID:4549-1683970200-1683979200@memoriagentgran.cat
SUMMARY:
DESCRIPTION:Ruta guiada pels fortins de Mataró
URL:https://memoriagentgran.cat/agenda/4549/
LOCATION:Barcelona
ATTACH;FMTTYPE=image/jpeg:https://memoriagentgran.cat/wp-content/uploads/2019/06/Fortins23-1.jpg
ORGANIZER;CN="Comissi%C3%B3 de mem%C3%B2ria hist%C3%B2rica de la gent gran":MAILTO:ciutadania@ajmataro.cat
END:VEVENT
BEGIN:VEVENT
DTSTART;TZID=Europe/Madrid:20230923T100000
DTEND;TZID=Europe/Madrid:20230923T120000
DTSTAMP:20260423T131800
CREATED:20230713T110412Z
LAST-MODIFIED:20230713T110412Z
UID:4674-1695463200-1695470400@memoriagentgran.cat
SUMMARY:Ruta per baix a mar del Mataró del segle passat
DESCRIPTION:
URL:https://memoriagentgran.cat/agenda/ruta-per-baix-a-mar-del-mataro-del-segle-passat/
LOCATION:centre cívic Cabot i Barba\, Plaça Miquel Biada\, 5\, Mataró\, Barcelona\, 08302
ORGANIZER;CN="Comissi%C3%B3 de mem%C3%B2ria hist%C3%B2rica de la gent gran":MAILTO:ciutadania@ajmataro.cat
END:VEVENT
BEGIN:VEVENT
DTSTART;TZID=Europe/Madrid:20240109T093000
DTEND;TZID=Europe/Madrid:20240131T203000
DTSTAMP:20260423T131800
CREATED:20240110T125530Z
LAST-MODIFIED:20240110T125930Z
UID:4807-1704792600-1706733000@memoriagentgran.cat
SUMMARY:Exposició "Mataró recuperem la nostra història\, anys 30"
DESCRIPTION:Cinc eixos temàtics que expliquen els factors claus dels canvis que les persones mataronines van viure durant els anys 30
URL:https://memoriagentgran.cat/agenda/exposicio-mataro-recuperem-la-nostra-historia-anys-30/
LOCATION:Barcelona
ATTACH;FMTTYPE=image/jpeg:https://memoriagentgran.cat/wp-content/uploads/2017/12/Anys-30.jpg
ORGANIZER;CN="Comissi%C3%B3 de mem%C3%B2ria hist%C3%B2rica de la gent gran":MAILTO:ciutadania@ajmataro.cat
END:VEVENT
BEGIN:VEVENT
DTSTART;TZID=Europe/Madrid:20240124T180000
DTEND;TZID=Europe/Madrid:20240124T190000
DTSTAMP:20260423T131800
CREATED:20240110T130558Z
LAST-MODIFIED:20240110T134905Z
UID:4810-1706119200-1706122800@memoriagentgran.cat
SUMMARY:Visita guiada a l'exposició Mataró\, recuperem la nostra història\, anys 30
DESCRIPTION:
URL:https://memoriagentgran.cat/agenda/visita-guiada-a-lexposicio-mataro-recuperem-la-nostra-historia-anys-30/
LOCATION:Biblioteca Popular\, Carrer d'En Palau\, 18\, Mataró\, Barcelona\, 08301\, Espanya
ORGANIZER;CN="Comissi%C3%B3 de mem%C3%B2ria hist%C3%B2rica de la gent gran":MAILTO:ciutadania@ajmataro.cat
END:VEVENT
END:VCALENDAR