BEGIN:VCALENDAR
VERSION:2.0
PRODID:-//Memòria Gent Gran - ECPv6.8.1//NONSGML v1.0//EN
CALSCALE:GREGORIAN
METHOD:PUBLISH
X-ORIGINAL-URL:https://memoriagentgran.cat
X-WR-CALDESC:Esdeveniments per Memòria Gent Gran
REFRESH-INTERVAL;VALUE=DURATION:PT1H
X-Robots-Tag:noindex
X-PUBLISHED-TTL:PT1H
BEGIN:VTIMEZONE
TZID:Europe/Madrid
BEGIN:DAYLIGHT
TZOFFSETFROM:+0100
TZOFFSETTO:+0200
TZNAME:CEST
DTSTART:20230326T010000
END:DAYLIGHT
BEGIN:STANDARD
TZOFFSETFROM:+0200
TZOFFSETTO:+0100
TZNAME:CET
DTSTART:20231029T010000
END:STANDARD
END:VTIMEZONE
BEGIN:VEVENT
DTSTART;TZID=Europe/Madrid:20230311T100000
DTEND;TZID=Europe/Madrid:20230311T120000
DTSTAMP:20260423T131336
CREATED:20230223T140559Z
LAST-MODIFIED:20230223T140608Z
UID:4440-1678528800-1678536000@memoriagentgran.cat
SUMMARY:Ruta per la indústria tèxtil mataronina
DESCRIPTION:Itinerari A \nsortida a les 10 h des de la plaça Pepa Maca \ninscripcions gratuïtes a l’Oficina de Turisme de Mataró \nRiera\, 123 937582698 \nturisme@ajmataro.cat
URL:https://memoriagentgran.cat/agenda/ruta-per-la-industria-textil-mataronina-3/
LOCATION:Barcelona
ORGANIZER;CN="Comissi%C3%B3 de mem%C3%B2ria hist%C3%B2rica de la gent gran":MAILTO:ciutadania@ajmataro.cat
END:VEVENT
END:VCALENDAR